BEGIN:VCALENDAR
VERSION:2.0
PRODID:-//ChamberMaster//Event Calendar 2.0//EN
METHOD:PUBLISH
X-PUBLISHED-TTL:P3D
REFRESH-INTERVAL:P3D
CALSCALE:GREGORIAN
BEGIN:VEVENT
DTSTART:20170115T120000Z
DTEND:20170115T180000Z
X-MICROSOFT-CDO-ALLDAYEVENT:FALSE
SUMMARY:Star Wars Half Marathon Weekend - Street Closures
DESCRIPTION:PRESENTED BY\n\nSIERRA NEVADA CORPORATION\n\n\n\nEvent Date: Sunday\, January 15\, 2017\n\n\n\nDear Garden Grove Residents\,\n\n\n\nThe 3rd Annual Star Wars  Half Marathon will take place Sunday\, January 15\, 2017. This race begins at the Disneyland  Resort with the route encompassing various streets in Anaheim and Garden Grove. The race will affect streets in the vicinity of your residence\, including Harbor Boulevard\, Garden Grove Boulevard\, Main Street\, Euclid Street and Chapman Avenue.\n\n\n\nIt is important to note that these roads will experience closures between 4:00 am. and 10:00 a.m. Sunday\, January 15\, limiting entrance and exit access to these roads. At the intersection of Lampson Avenue and Euclid Street\, there will be a "soft" closure which will allow cans to cross the street until the first runner passes at approximately 6:15 am at which point the intersection is closed until the last runner clears at 9:15 a.m. By 8:15 a.m.\, Harbor Boulevard will be open. By 9:00 a.m.\, Garden Grove Boulevard will be open\, and by 9:15 a.m.\, Euclid Street will be open. Finally\, Chapman Avenue will be cleared by 9:45 a.m.\n\n\n\nWe apologize for the inconvenience and appreciate your patience. If you have any questions\, please feel free to contact Spectrum Sports Management\, Inc.\n\n\n\nSpectrum Sports Management\, Inc. \n\n2058 N. Mills Ave #454\n\nClaremont\, Ca. 91711\n\n(909) 399-3553\n\n\n\n Disney\n\n &  Lucasfilm Ltd.
X-ALT-DESC;FMTTYPE=text/html:PRESENTED BY<br />\nSIERRA NEVADA CORPORATION<br />\n<br />\nEvent Date: Sunday\, January 15\, 2017<br />\n<br />\nDear Garden Grove Residents\,<br />\n<br />\nThe 3rd Annual Star Wars&trade\; Half Marathon will take place Sunday\, January 15\, 2017. This race begins at the Disneyland&reg\; Resort with the route encompassing various streets in Anaheim and Garden Grove. The race will affect streets in the vicinity of your residence\, including Harbor Boulevard\, Garden Grove Boulevard\, Main Street\, Euclid Street and Chapman Avenue.<br />\n<br />\nIt is important to note that these roads will experience closures between 4:00 am. and 10:00 a.m. Sunday\, January 15\, limiting entrance and exit access to these roads. At the intersection of Lampson Avenue and Euclid Street\, there will be a &quot\;soft&quot\; closure which will allow cans to cross the street until the first runner passes at approximately 6:15 am at which point the intersection is closed until the last runner clears at 9:15 a.m. By 8:15 a.m.\, Harbor Boulevard will be open. By 9:00 a.m.\, Garden Grove Boulevard will be open\, and by 9:15 a.m.\, Euclid Street will be open. Finally\, Chapman Avenue will be cleared by 9:45 a.m.<br />\n<br />\nWe apologize for the inconvenience and appreciate your patience. If you have any questions\, please feel free to contact Spectrum Sports Management\, Inc.<br />\n<br />\nSpectrum Sports Management\, Inc.&nbsp\;<br />\n2058 N. Mills Ave #454<br />\nClaremont\, Ca. 91711<br />\n(909) 399-3553<br />\n<br />\n&copy\;Disney<br />\n&copy\;&amp\;&trade\; Lucasfilm Ltd.
LOCATION:
UID:e.1315.6065
SEQUENCE:3
DTSTAMP:20260420T122237Z
URL:http://member.gardengrovechamber.com/events/details/star-wars-half-marathon-weekend-street-closures-6065
END:VEVENT

END:VCALENDAR
