BEGIN:VCALENDAR
VERSION:2.0
PRODID:-//ChamberMaster//Event Calendar 2.0//EN
METHOD:PUBLISH
X-PUBLISHED-TTL:P3D
REFRESH-INTERVAL:P3D
CALSCALE:GREGORIAN
BEGIN:VEVENT
DTSTART:20140121T193000Z
DTEND:20140121T210000Z
X-MICROSOFT-CDO-ALLDAYEVENT:FALSE
SUMMARY:State of the City Luncheon
DESCRIPTION:You are cordially invited to the Annual Garden Grove State of the City Luncheon featuring Mayor Bruce A. Broadwater.
X-ALT-DESC;FMTTYPE=text/html:You are cordially invited to the Annual Garden Grove State of the City Luncheon featuring Mayor Bruce A. Broadwater. &nbsp\;
LOCATION:Crowne Plaza Hotel 12021 Harbor Blvd. Garden Grove\, CA 92840
UID:e.1315.1317
SEQUENCE:3
DTSTAMP:20260425T001939Z
URL:http://member.gardengrovechamber.com/events/details/state-of-the-city-luncheon-01-21-2014-1317
END:VEVENT

END:VCALENDAR
