BEGIN:VCALENDAR
VERSION:2.0
PRODID:-//ChamberMaster//Event Calendar 2.0//EN
METHOD:PUBLISH
X-PUBLISHED-TTL:P3D
REFRESH-INTERVAL:P3D
CALSCALE:GREGORIAN
BEGIN:VEVENT
DTSTART;VALUE=DATE:20160323
DTEND;VALUE=DATE:20160324
TRANSP:TRANSPARENT
X-MICROSOFT-CDO-ALLDAYEVENT:TRUE
SUMMARY:Strawberry Bowl Comedy Relief
DESCRIPTION:Six Weeks - Six Comedians    \n\n\n\nTodays comedians are:\n\nCindy Burns "Anti-Aging Housewife"\n\nVicki Barbolak "Trailer Nasty Housewife"\n\nKira Soltanovich "Inappropriate Housewife"
X-ALT-DESC;FMTTYPE=text/html:Six Weeks - Six Comedians&nbsp\;&nbsp\;&nbsp\;&nbsp\;<br />\n<br />\nTodays comedians are:<br />\nCindy Burns &quot\;Anti-Aging Housewife&quot\;<br />\nVicki Barbolak &quot\;Trailer Nasty Housewife&quot\;<br />\nKira Soltanovich &quot\;Inappropriate Housewife&quot\;
LOCATION:The Strawberry Bowl 12762 Main Street Garden Grove\, CA
UID:e.1315.5107
SEQUENCE:3
DTSTAMP:20260421T024016Z
URL:http://member.gardengrovechamber.com/events/details/strawberry-bowl-comedy-relief-03-23-2016-5107
END:VEVENT

END:VCALENDAR
