BEGIN:VCALENDAR
VERSION:2.0
PRODID:-//ChamberMaster//Event Calendar 2.0//EN
METHOD:PUBLISH
X-PUBLISHED-TTL:P3D
REFRESH-INTERVAL:P3D
CALSCALE:GREGORIAN
BEGIN:VEVENT
DTSTART;VALUE=DATE:20160330
DTEND;VALUE=DATE:20160331
TRANSP:TRANSPARENT
X-MICROSOFT-CDO-ALLDAYEVENT:TRUE
SUMMARY:Strawberry Bowl Comedy Relief
DESCRIPTION:Six Weeks - Six Comedians    \n\n\n\nToday's comedian is:\n\nDon Friesen
X-ALT-DESC;FMTTYPE=text/html:Six Weeks - Six Comedians&nbsp\;&nbsp\;&nbsp\;&nbsp\;<br />\n<br />\nToday&#39\;s comedian is:<br />\nDon Friesen<br />\n&nbsp\;
LOCATION:The Strawberry Bowl 12762 Main Street Garden Grove\, CA
UID:e.1315.5110
SEQUENCE:3
DTSTAMP:20260421T024016Z
URL:http://member.gardengrovechamber.com/events/details/strawberry-bowl-comedy-relief-03-30-2016-5110
END:VEVENT

END:VCALENDAR
