BEGIN:VCALENDAR
VERSION:2.0
PRODID:-//ChamberMaster//Event Calendar 2.0//EN
METHOD:PUBLISH
X-PUBLISHED-TTL:P3D
REFRESH-INTERVAL:P3D
CALSCALE:GREGORIAN
BEGIN:VEVENT
DTSTART;VALUE=DATE:20130524
DTEND;VALUE=DATE:20130528
TRANSP:TRANSPARENT
X-MICROSOFT-CDO-ALLDAYEVENT:TRUE
SUMMARY:Strawberry Festival
DESCRIPTION:55th Annual Garden Grove Strawberry Festival
X-ALT-DESC;FMTTYPE=text/html:55th Annual Garden Grove Strawberry Festival&nbsp\;
LOCATION:S. Euclid St & Main St. Garden Grove\, CA 92840
UID:e.1315.1180
SEQUENCE:3
DTSTAMP:20260425T135642Z
URL:http://member.gardengrovechamber.com/events/details/strawberry-festival-05-24-2013-1180
END:VEVENT

END:VCALENDAR
