BEGIN:VCALENDAR
VERSION:2.0
PRODID:-//ChamberMaster//Event Calendar 2.0//EN
METHOD:PUBLISH
X-PUBLISHED-TTL:P3D
REFRESH-INTERVAL:P3D
CALSCALE:GREGORIAN
BEGIN:VEVENT
DTSTART;VALUE=DATE:20160326
DTEND;VALUE=DATE:20160327
TRANSP:TRANSPARENT
X-MICROSOFT-CDO-ALLDAYEVENT:TRUE
SUMMARY:Strawberry Productions - Born Jovi
DESCRIPTION:BORN JOVI captures the ground shaking all American rock of the 5 boys from New Jersey\, bringing a show complete with full staging and 80's arena showmanship.\n\nVocalist Jimmy Driscoll who's natural voice & style captures the authentic JOVI sound\, soars over thundering drums and iconic guitar grooves that make this a concert event like no other.\n\nWorld class musicians make up the members of BORN JOVI as they remain true to the mission of replicating the authentic sounds of a classic BON JOVI show.
X-ALT-DESC;FMTTYPE=text/html:<span style="font-family:arial\;"><span style="font-size: 16px\; line-height: normal\; background-color: rgb(247\, 246\, 244)\;">BORN JOVI captures the ground shaking all American rock of the 5 boys from New Jersey\, bringing a show complete with full staging and 80&#39\;s arena showmanship.</span><br style="box-sizing: border-box\; margin: 0px\; padding: 0px\; color: rgb(153\, 153\, 153)\; font-family: 'Source Sans Pro'\; font-size: 16px\; line-height: normal\; background-color: rgb(247\, 246\, 244)\;" />\n<span style="font-size: 16px\; line-height: normal\; background-color: rgb(247\, 246\, 244)\;">Vocalist Jimmy Driscoll who&#39\;s natural voice &amp\; style captures the authentic JOVI sound\, soars over thundering drums and iconic guitar grooves that make this a concert event like no other.</span><br style="box-sizing: border-box\; margin: 0px\; padding: 0px\; color: rgb(153\, 153\, 153)\; font-family: 'Source Sans Pro'\; font-size: 16px\; line-height: normal\; background-color: rgb(247\, 246\, 244)\;" />\n<span style="font-size: 16px\; line-height: normal\; background-color: rgb(247\, 246\, 244)\;">World class musicians make up the members of BORN JOVI as they remain true to the mission of replicating the authentic sounds of a classic BON JOVI show.</span></span>
LOCATION:The Strawberry Bowl 12762 Main Street Garden Grove 92840
UID:e.1315.5108
SEQUENCE:3
DTSTAMP:20260421T024042Z
URL:http://member.gardengrovechamber.com/events/details/strawberry-productions-born-jovi-03-26-2016-5108
END:VEVENT

END:VCALENDAR
