BEGIN:VCALENDAR
VERSION:2.0
PRODID:-//ChamberMaster//Event Calendar 2.0//EN
METHOD:PUBLISH
X-PUBLISHED-TTL:P3D
REFRESH-INTERVAL:P3D
CALSCALE:GREGORIAN
BEGIN:VEVENT
DTSTART;VALUE=DATE:20160402
DTEND;VALUE=DATE:20160403
TRANSP:TRANSPARENT
X-MICROSOFT-CDO-ALLDAYEVENT:TRUE
SUMMARY:Strawberry Productions - Platinum Rockstars
DESCRIPTION:The Platinum Rockstars Pure Classic Rock show is a classic rock band featuring the hits of the greatest arena rockers of all-time including Led Zeppelin\, Journey\, Bon Jovi\, Def Leppard\, Van Halen & more!
X-ALT-DESC;FMTTYPE=text/html:<p><span style="box-sizing: border-box\; margin: inherit\; padding: initial\; font-family: 'Source Sans Pro'\; font-size: 16px\; font-weight: 600\; text-decoration: inherit\; line-height: normal\; text-align: center\;"><span style="box-sizing: border-box\; margin: auto\; padding: initial\; font-family: inherit\; font-size: inherit\; font-style: inherit\; font-weight: inherit\; text-decoration: inherit\;"><span style="box-sizing: border-box\; margin: auto\; padding: initial\; font-family: inherit\; font-size: 18px\; font-style: inherit\; font-weight: inherit\; text-decoration: inherit\;">The</span></span><span style="box-sizing: border-box\; margin: auto\; padding: initial\; font-family: inherit\; font-size: inherit\; font-style: inherit\; font-weight: inherit\; text-decoration: inherit\;"><span style="box-sizing: border-box\; margin: auto\; padding: initial\; font-family: inherit\; font-size: 18px\; font-style: inherit\; font-weight: inherit\; text-decoration: inherit\;">&nbsp\;Platinum Rockstars&nbsp\;</span></span><span style="box-sizing: border-box\; margin: auto\; padding: initial\; font-family: inherit\; font-size: inherit\; font-style: inherit\; font-weight: inherit\; text-decoration: inherit\;"><span style="box-sizing: border-box\; margin: auto\; padding: initial\; font-family: inherit\; font-size: 18px\; font-style: inherit\; font-weight: inherit\; text-decoration: inherit\;">Pure Classic Rock show is a classic rock band featuring the hits&nbsp\;of the greatest arena rockers of all-time including Led Zeppelin\, Journey\, Bon Jovi\, Def Leppard\, Van Halen &amp\; more!</span></span></span></p>\n
LOCATION:The Strawberry Bowl 12762 Main Street Garden Grove 92840
UID:e.1315.5115
SEQUENCE:3
DTSTAMP:20260421T024043Z
URL:http://member.gardengrovechamber.com/events/details/strawberry-productions-platinum-rockstars-04-02-2016-5115
END:VEVENT

END:VCALENDAR
