BEGIN:VCALENDAR
VERSION:2.0
PRODID:-//ChamberMaster//Event Calendar 2.0//EN
METHOD:PUBLISH
X-PUBLISHED-TTL:P3D
REFRESH-INTERVAL:P3D
CALSCALE:GREGORIAN
BEGIN:VEVENT
DTSTART:20140701T230000Z
DTEND:20140702T020000Z
X-MICROSOFT-CDO-ALLDAYEVENT:FALSE
SUMMARY:Taco Tuesday at Candlewood Suites
DESCRIPTION:Come join us and get re-acquainted with our Taco Tuesday Night at the Candlewood Suites in Garden Grove. Take a tour of our New Guest Rooms.  Check out our New Fitness Room and meet the staff.  Enter your business card for a drawing.
X-ALT-DESC;FMTTYPE=text/html:Come join us and get re-acquainted with our Taco Tuesday Night at the Candlewood Suites in Garden Grove. Take a tour of our New Guest Rooms. &nbsp\;Check out our New Fitness Room and meet the staff. &nbsp\;Enter your business card for a drawing.
LOCATION:Candlewood Suites 12901 Garden Grove Blvd. Garden Grove\, CA 92843
UID:e.1315.1766
SEQUENCE:3
DTSTAMP:20260424T161121Z
URL:http://member.gardengrovechamber.com/events/details/taco-tuesday-at-candlewood-suites-07-01-2014-1766
END:VEVENT

END:VCALENDAR
