BEGIN:VCALENDAR
VERSION:2.0
PRODID:-//ChamberMaster//Event Calendar 2.0//EN
METHOD:PUBLISH
X-PUBLISHED-TTL:P3D
REFRESH-INTERVAL:P3D
CALSCALE:GREGORIAN
BEGIN:VEVENT
DTSTART:20140129T010000Z
DTEND:20140129T023000Z
X-MICROSOFT-CDO-ALLDAYEVENT:FALSE
SUMMARY:Taxes\, IRA's\, and Immigration - Oh My!
DESCRIPTION:With the New Year comes new rules and regulations on Taxes\, IRA's\, and Immigration reporting requirements for small businesses.  Don't get caught wondering what these issues and opportunities are!  We have a trio of highly skilled professionals who have volunteered to provide up to the moment tips and compliance information.\n\n\n\nOur team includes:  John Scott of Scott Tax Associates\, Larry Peregrine\, a financial planner and George Abbes\, an immigration attorney.
X-ALT-DESC;FMTTYPE=text/html:With the New Year comes new rules and regulations on Taxes\, IRA&#39\;s\, and Immigration reporting requirements for small businesses. &nbsp\;Don&#39\;t get caught wondering what these issues and opportunities are! &nbsp\;We have a trio of highly skilled professionals who have volunteered to provide up to the moment tips and compliance information.<br />\n<br />\nOur team includes: &nbsp\;John Scott of Scott Tax Associates\, Larry Peregrine\, a financial planner and George Abbes\, an immigration attorney.<br />\n
LOCATION:Scott Tax Associates 12952 Main Street Garden Grove\, CA 92840
UID:e.1315.1466
SEQUENCE:3
DTSTAMP:20260425T002053Z
URL:http://member.gardengrovechamber.com/events/details/taxes-ira-s-and-immigration-oh-my-01-28-2014-1466
END:VEVENT

END:VCALENDAR
