BEGIN:VCALENDAR
VERSION:2.0
PRODID:-//ChamberMaster//Event Calendar 2.0//EN
METHOD:PUBLISH
X-PUBLISHED-TTL:P3D
REFRESH-INTERVAL:P3D
CALSCALE:GREGORIAN
BEGIN:VEVENT
DTSTART:20151008T000000Z
DTEND:20151008T033000Z
X-MICROSOFT-CDO-ALLDAYEVENT:FALSE
SUMMARY:Teaming Up for a Cause
DESCRIPTION:Please note this is not a Chamber mixer.\n\n\n\nTeaming Up For a Cause Networking Mixer\n\nThis is a business professionals events. Tickets are $28\, covers Hors D'oeuvres and an entry for door prize.
X-ALT-DESC;FMTTYPE=text/html:Please note this is <u>not</u> a Chamber mixer.<br />\n<br />\nTeaming Up For a Cause Networking Mixer<br />\nThis is a business professionals events. Tickets are $28\, covers Hors D&#39\;oeuvres and an entry for door prize.&nbsp\;&nbsp\;&nbsp\;&nbsp\;&nbsp\;&nbsp\;&nbsp\;&nbsp\;&nbsp\;&nbsp\;&nbsp\;&nbsp\;&nbsp\;&nbsp\;&nbsp\;&nbsp\;&nbsp\;
LOCATION:Ruth Chris Steak House 2041 S. Harbor Blvd. Anaheim\, CA 92802
UID:e.1315.4701
SEQUENCE:3
DTSTAMP:20260423T163034Z
URL:http://member.gardengrovechamber.com/events/details/teaming-up-for-a-cause-10-07-2015-4701
END:VEVENT

END:VCALENDAR
