BEGIN:VCALENDAR
VERSION:2.0
PRODID:-//ChamberMaster//Event Calendar 2.0//EN
METHOD:PUBLISH
X-PUBLISHED-TTL:P3D
REFRESH-INTERVAL:P3D
CALSCALE:GREGORIAN
BEGIN:VEVENT
DTSTART:20170422T210000Z
DTEND:20170423T013000Z
X-MICROSOFT-CDO-ALLDAYEVENT:FALSE
SUMMARY:The Reality Party
DESCRIPTION:Hey Parents!\n\n\n\nWant to know what really happens at parties?\n\n\n\nCome watch teen actors perform scenes from a typical house party...what you see might surprise you!\n\n\n\nAfter a 30-minute 'tour'\, community experts will host a Q&A session. You will learn about new drug trends\, helpful parenting tips and free community resources.
X-ALT-DESC;FMTTYPE=text/html:Hey Parents!<br />\n<br />\nWant to know what <strong>really&nbsp\;</strong>happens at parties?<br />\n<br />\nCome watch teen actors perform scenes from a typical house party...what you see might surprise you!<br />\n<br />\nAfter a 30-minute &#39\;tour&#39\;\, community experts will host a Q&amp\;A session. You will learn about new drug trends\, helpful parenting tips and free community resources.&nbsp\;
LOCATION:Private Residence\, Garden Grove (The location of the home will only be disclosed to registered attendees)
UID:e.1315.6108
SEQUENCE:3
DTSTAMP:20260420T062117Z
URL:http://member.gardengrovechamber.com/events/details/the-reality-party-6108
END:VEVENT

END:VCALENDAR
