BEGIN:VCALENDAR
VERSION:2.0
PRODID:-//ChamberMaster//Event Calendar 2.0//EN
METHOD:PUBLISH
X-PUBLISHED-TTL:P3D
REFRESH-INTERVAL:P3D
CALSCALE:GREGORIAN
BEGIN:VEVENT
DTSTART:20150208T183000Z
DTEND:20150208T213000Z
X-MICROSOFT-CDO-ALLDAYEVENT:FALSE
SUMMARY:THIS WEEKEND "The Fab 50's" Women's Division Fashion Show
DESCRIPTION:The Garden Grove Chamber of Commerce Women's Division is hosting their annual "Fabulous February Fashion Show".  This years theme is "The Fab 50's".\n\n\n\nOnce again\, there will be a Silent Auction\, so get there early to preview what will be auctioned off and check out items being sold by various vendors.\n\n\n\nBe sure to wear your favorite 50's outfit or wear pink and black. (this is optional)
X-ALT-DESC;FMTTYPE=text/html:The Garden Grove Chamber of Commerce Women&#39\;s Division is hosting their annual <span style="color:#FF0000\;"><strong>&quot\;Fabulous February Fashion Show&quot\;</strong></span>. &nbsp\;This years theme is <span style="color:#FF0000\;"><strong>&quot\;The Fab</strong></span> <span style="color:#FF0000\;"><strong>50&#39\;s&quot\;</strong></span>.<br />\n<br />\nOnce again\, there will be a Silent Auction\, so get there early to preview what will be auctioned off and check out items being sold by various vendors.<br />\n<br />\nBe sure to wear your favorite 50&#39\;s outfit or wear pink and black. (this is optional)
LOCATION:Garden Grove Elk's Lodge 11551 Trask Avenue Garden Grove\, CA 92843
UID:e.1315.1796
SEQUENCE:3
DTSTAMP:20260424T045557Z
URL:http://member.gardengrovechamber.com/events/details/this-weekend-the-fab-50-s-women-s-division-fashion-show-02-08-2015-1796
END:VEVENT

END:VCALENDAR
