BEGIN:VCALENDAR
VERSION:2.0
PRODID:-//ChamberMaster//Event Calendar 2.0//EN
METHOD:PUBLISH
X-PUBLISHED-TTL:P3D
REFRESH-INTERVAL:P3D
CALSCALE:GREGORIAN
BEGIN:VEVENT
DTSTART:20170508T180000Z
DTEND:20170509T013000Z
X-MICROSOFT-CDO-ALLDAYEVENT:FALSE
SUMMARY:Thomas House - Luau on the Green 2017 Golf Tournament
DESCRIPTION:Thomas House Family Shelter\n\nLuau on the Green\n\n2017 Golf Tournament\n\nHonoring the Memory of Deloris May 'Dee' Ascher\n\nDavid S. Ascher\, M.D. - Charitable Foundation
X-ALT-DESC;FMTTYPE=text/html:Thomas House Family Shelter<br />\nLuau on the Green<br />\n2017 Golf Tournament<br />\n<em>Honoring the Memory of Deloris May &#39\;Dee&#39\; Ascher<br />\nDavid S. Ascher\, M.D. - Charitable Foundation</em>
LOCATION:Old Ranch County Club 3901 Lampson Avenue Seal Beach\, CA 90740
UID:e.1315.6117
SEQUENCE:3
DTSTAMP:20260420T062450Z
URL:http://member.gardengrovechamber.com/events/details/thomas-house-luau-on-the-green-2017-golf-tournament-6117
END:VEVENT

END:VCALENDAR
