BEGIN:VCALENDAR
VERSION:2.0
PRODID:-//ChamberMaster//Event Calendar 2.0//EN
METHOD:PUBLISH
X-PUBLISHED-TTL:P3D
REFRESH-INTERVAL:P3D
CALSCALE:GREGORIAN
BEGIN:VEVENT
DTSTART:20140123T200000Z
DTEND:20140123T210000Z
X-MICROSOFT-CDO-ALLDAYEVENT:FALSE
SUMMARY:TODAY is the Lunch & Learn about new Affordable Care Act
DESCRIPTION:The Garden Grove Chamber and Coastline Community College is providing a Lunch and Learn on the Affordable Care Act.  Sandwich and water to be provided.
X-ALT-DESC;FMTTYPE=text/html:The Garden Grove Chamber and Coastline Community College is providing a Lunch and Learn on the Affordable Care Act. &nbsp\;Sandwich and water to be provided.
LOCATION:Coastline Community College 12901 Euclid Street Garden Grove\, CA 92840
UID:e.1315.1465
SEQUENCE:3
DTSTAMP:20260425T001824Z
URL:http://member.gardengrovechamber.com/events/details/today-is-the-lunch-learn-about-new-affordable-care-act-01-23-2014-1465
END:VEVENT

END:VCALENDAR
