BEGIN:VCALENDAR
VERSION:2.0
PRODID:-//ChamberMaster//Event Calendar 2.0//EN
METHOD:PUBLISH
X-PUBLISHED-TTL:P3D
REFRESH-INTERVAL:P3D
CALSCALE:GREGORIAN
BEGIN:VEVENT
DTSTART:20170326T013000Z
DTEND:20170326T040000Z
X-MICROSOFT-CDO-ALLDAYEVENT:FALSE
SUMMARY:TOMORROW EVENING 111th Annual Gala Dinner "Main Street USA"
DESCRIPTION:Join us at our 111th Annual Gala dinner. Our theme will be "Main Street USA" and we will be honoring:\n\n\n\nWoman of the Year - Vickie Hanssen\n\nMan of the Year - Chuck Lake\n\n\n\nBusiness Excellence in:\n\nCommunity Services - Strawberry Festival Association\n\nGo Green - Coastline Community College\n\nEconomic Growth - Garden Grove Tourism Promotion Corporation
X-ALT-DESC;FMTTYPE=text/html:Join us at our <em><strong>111th Annual Gala</strong></em> dinner. Our theme will be &quot\;Main Street USA&quot\; and we will be honoring:<br />\n<br />\nWoman of the Year - Vickie Hanssen<br />\nMan of the Year - Chuck Lake<br />\n<br />\nBusiness Excellence in:<br />\nCommunity Services - Strawberry Festival Association<br />\nGo Green - Coastline Community College<br />\nEconomic Growth - Garden Grove Tourism Promotion Corporation&nbsp\;&nbsp\;&nbsp\;&nbsp\;
LOCATION:Great Wolf Lodge So California 12681 Harbor Blvd. Garden Grove\, CA 92840
UID:e.1315.6062
SEQUENCE:3
DTSTAMP:20260420T073934Z
URL:http://member.gardengrovechamber.com/events/details/tomorrow-evening-111th-annual-gala-dinner-main-street-usa-6062
END:VEVENT

END:VCALENDAR
