BEGIN:VCALENDAR
VERSION:2.0
PRODID:-//ChamberMaster//Event Calendar 2.0//EN
METHOD:PUBLISH
X-PUBLISHED-TTL:P3D
REFRESH-INTERVAL:P3D
CALSCALE:GREGORIAN
BEGIN:VEVENT
DTSTART:20150219T013000Z
DTEND:20150219T030000Z
X-MICROSOFT-CDO-ALLDAYEVENT:FALSE
SUMMARY:TONIGHT Chamber Mixer at Working Wardrobes
DESCRIPTION:Our February mixer will be held at Working Wardrobes (WW)\, a wonderful local Non-profit Agency helping veterans and community members get back into the workforce. Please join us for a fun evening with the WW team. There will be appetizers and networking opportunities. Bring lots of business cards!\n\n\n\nIf possible\, please bring a gently used article of clothing for donation to this great company\, helping people dress for success!\n\n\n\nPromote your business even further by bringing an item for an Opportunity Drawing at the end of the evening!!!
X-ALT-DESC;FMTTYPE=text/html:Our <em><strong>February mixer</strong></em> will be held at <strong><em>Working Wardrobes</em></strong> (WW)\, a wonderful local Non-profit Agency helping veterans and community members get back into the workforce. Please join us for a fun evening with the WW team. There will be appetizers and networking opportunities. Bring lots of business cards!<br />\n<br />\nIf possible\, please bring a gently used article of clothing for donation to this great company\, helping people dress for success!<br />\n<br />\n<strong><em>Promote your business even further by bringing an item for an Opportunity Drawing at the end of the evening!!!</em></strong>
LOCATION:Working Wardrobes 12761 Harbor Blvd.\, Suite 1-2 Garden Grove\, CA 92840
UID:e.1315.2455
SEQUENCE:3
DTSTAMP:20260424T045149Z
URL:http://member.gardengrovechamber.com/events/details/tonight-chamber-mixer-at-working-wardrobes-02-18-2015-2455
END:VEVENT

END:VCALENDAR
