BEGIN:VCALENDAR
VERSION:2.0
PRODID:-//ChamberMaster//Event Calendar 2.0//EN
METHOD:PUBLISH
X-PUBLISHED-TTL:P3D
REFRESH-INTERVAL:P3D
CALSCALE:GREGORIAN
BEGIN:VEVENT
DTSTART:20141218T013000Z
DTEND:20141218T033000Z
X-MICROSOFT-CDO-ALLDAYEVENT:FALSE
SUMMARY:TONIGHT Holiday Mixer at Farmers & Merchants Bank
DESCRIPTION:Join us for our Annual Garden Grove Chamber Christmas Mixer.\n\n\n\nBe sure to bring your business card to enter in the prize drawing!  Door prize donations are welcome\, but not required.
X-ALT-DESC;FMTTYPE=text/html:<em>Join us for our <strong>Annual Garden Grove Chamber Christmas Mixer</strong>.</em><br />\n<br />\nBe sure to bring your business card to enter in the prize drawing! &nbsp\;Door prize donations are welcome\, but not required.
LOCATION:Farmers & Merchants Bank 10422 Garden Grove Blvd. Garden Grove\, CA 92843
UID:e.1315.2103
SEQUENCE:3
DTSTAMP:20260424T074101Z
URL:http://member.gardengrovechamber.com/events/details/tonight-holiday-mixer-at-farmers-merchants-bank-12-17-2014-2103
END:VEVENT

END:VCALENDAR
