BEGIN:VCALENDAR
VERSION:2.0
PRODID:-//ChamberMaster//Event Calendar 2.0//EN
METHOD:PUBLISH
X-PUBLISHED-TTL:P3D
REFRESH-INTERVAL:P3D
CALSCALE:GREGORIAN
BEGIN:VEVENT
DTSTART:20141016T003000Z
DTEND:20141016T020000Z
X-MICROSOFT-CDO-ALLDAYEVENT:FALSE
SUMMARY:TONIGHT is Mixer at Thomas House Temporary Shelter
DESCRIPTION:Come to our Mixer and Network and tour their facility.  Bring lots of business cards.  Promote your business even further by bringing something to be raffled off as an opportunity prize.
X-ALT-DESC;FMTTYPE=text/html:Come to our Mixer and Network and tour their facility. &nbsp\;Bring lots of business cards. &nbsp\;Promote your business even further by bringing something to be raffled off as an opportunity prize.
LOCATION:Thomas House Temporary Shelter 12601 Morningside Avenue Garden Grove\, CA 92843
UID:e.1315.2069
SEQUENCE:3
DTSTAMP:20260424T103141Z
URL:http://member.gardengrovechamber.com/events/details/tonight-is-mixer-at-thomas-house-temporary-shelter-10-15-2014-2069
END:VEVENT

END:VCALENDAR
