BEGIN:VCALENDAR
VERSION:2.0
PRODID:-//ChamberMaster//Event Calendar 2.0//EN
METHOD:PUBLISH
X-PUBLISHED-TTL:P3D
REFRESH-INTERVAL:P3D
CALSCALE:GREGORIAN
BEGIN:VEVENT
DTSTART:20160922T003000Z
DTEND:20160922T020000Z
X-MICROSOFT-CDO-ALLDAYEVENT:FALSE
SUMMARY:TONIGHT is Monthly Chamber Mixer at the Boys & Girls Club of Garden Grove
DESCRIPTION:Join us for our Monthly Chamber Mixer. Refreshments will be provided. Be sure to bring your business cards.\n\n\n\nPromote your business even further by bringing something to be raffled off.  If you are unable to attend\, you can bring your raffle item with your business card attached to the Chamber Office.
X-ALT-DESC;FMTTYPE=text/html:Join us for our Monthly Chamber Mixer.&nbsp\;Refreshments will be provided. Be sure to bring your business cards.<br />\n<br />\n<strong style="line-height: 20.7999992370605px\;"><em>Promote your business even further by bringing something to be raffled off. &nbsp\;If you are unable to attend\, you can bring your raffle item with your business card attached to the Chamber Office.</em></strong>
LOCATION:Pat Halberstadt Family Campus 10540 Chapman Avenue Garden Grove\, CA 92840
UID:e.1315.5550
SEQUENCE:3
DTSTAMP:20260420T165857Z
URL:http://member.gardengrovechamber.com/events/details/tonight-is-monthly-chamber-mixer-at-the-boys-girls-club-of-garden-grove-5550
END:VEVENT

END:VCALENDAR
