BEGIN:VCALENDAR
VERSION:2.0
PRODID:-//ChamberMaster//Event Calendar 2.0//EN
METHOD:PUBLISH
X-PUBLISHED-TTL:P3D
REFRESH-INTERVAL:P3D
CALSCALE:GREGORIAN
BEGIN:VEVENT
DTSTART:20141205T010000Z
DTEND:20141205T030000Z
X-MICROSOFT-CDO-ALLDAYEVENT:FALSE
SUMMARY:TONIGHT is the H.O.P.E. Christmas Open House
DESCRIPTION:You are cordially invited to join H.O.P.E. for their Christmas Open House & tour their facilities to celebrate the season.  Come see what they are all about.  Food and drinks will be served.\n\n\n\nPlease RSVP by 11-28-14
X-ALT-DESC;FMTTYPE=text/html:You are cordially invited to join H.O.P.E. for their <strong><em>Christmas Open House</em></strong> &amp\; tour their facilities to celebrate the season. &nbsp\;Come see what they are all about. &nbsp\;Food and drinks will be served.<br />\n<br />\n<em><strong>Please RSVP by 11-28-14</strong></em>
LOCATION:H.O.P.E. Family Support Center 11022 Acacia Parkway Garden Grove\, CA 92840
UID:e.1315.2240
SEQUENCE:3
DTSTAMP:20260424T073922Z
URL:http://member.gardengrovechamber.com/events/details/tonight-is-the-h-o-p-e-christmas-open-house-12-04-2014-2240
END:VEVENT

END:VCALENDAR
