BEGIN:VCALENDAR
VERSION:2.0
PRODID:-//ChamberMaster//Event Calendar 2.0//EN
METHOD:PUBLISH
X-PUBLISHED-TTL:P3D
REFRESH-INTERVAL:P3D
CALSCALE:GREGORIAN
BEGIN:VEVENT
DTSTART:20150122T020000Z
DTEND:20150122T033000Z
X-MICROSOFT-CDO-ALLDAYEVENT:FALSE
SUMMARY:TONIGHT World Famous Speed Mixer Event
DESCRIPTION:Join us at our first mixer of the year.  This will be a Speed Mixer Event where you will get to meet everyone and say something about your business\, so bring a lot of business cards.\n\n\n\nTo further promote your business\, bring something for our Opportunity Drawing at the end of the evening.
X-ALT-DESC;FMTTYPE=text/html:Join us at our first mixer of the year. &nbsp\;This will be a <strong><em>Speed Mixer Event </em></strong>where you will get to meet everyone and say something about your business\, so bring a lot of business cards.<br />\n<br />\nTo further promote your business\, bring something for our Opportunity Drawing at the end of the evening.
LOCATION:Orange County Emergency Clinic 12750 Garden Grove Blvd. 2nd Floor Meeting Room Garden Grove\, CA 92843
UID:e.1315.2434
SEQUENCE:3
DTSTAMP:20260424T061331Z
URL:http://member.gardengrovechamber.com/events/details/tonight-world-famous-speed-mixer-event-01-21-2015-2434
END:VEVENT

END:VCALENDAR
