BEGIN:VCALENDAR
VERSION:2.0
PRODID:-//ChamberMaster//Event Calendar 2.0//EN
METHOD:PUBLISH
X-PUBLISHED-TTL:P3D
REFRESH-INTERVAL:P3D
CALSCALE:GREGORIAN
BEGIN:VEVENT
DTSTART:20170429T010000Z
DTEND:20170429T040000Z
X-MICROSOFT-CDO-ALLDAYEVENT:FALSE
SUMMARY:Top Hats & Tiaras
DESCRIPTION:Let's get fancy...again!\n\nFriday\, April 28th - Join us for live music\, dancing\, food & drinks! Get reserved table seating in front of Craig McKnight and the Beach City Big Band! Check out the flyer on how to reserve your spot.
X-ALT-DESC;FMTTYPE=text/html:Let&#39\;s get fancy...again!<br />\n<span style="color: rgb(29\, 33\, 41)\; font-family: Helvetica\, Arial\, sans-serif\; font-size: 14px\;">Friday\, April 28th - Join us for live music\, dancing\, food &amp\; drinks! Get reserved table seating in front of Craig McKnight and the Beach City Big Band! Check out the flyer on how to reserve your spot.</span>
LOCATION:10801 Stanford Avenue Garden Grove\, CA 92840
UID:e.1315.6140
SEQUENCE:3
DTSTAMP:20260420T062117Z
URL:http://member.gardengrovechamber.com/events/details/top-hats-tiaras-6140
END:VEVENT

END:VCALENDAR
