BEGIN:VCALENDAR
VERSION:2.0
PRODID:-//ChamberMaster//Event Calendar 2.0//EN
METHOD:PUBLISH
X-PUBLISHED-TTL:P3D
REFRESH-INTERVAL:P3D
CALSCALE:GREGORIAN
BEGIN:VEVENT
DTSTART;VALUE=DATE:20141216
DTEND;VALUE=DATE:20141217
TRANSP:TRANSPARENT
X-MICROSOFT-CDO-ALLDAYEVENT:TRUE
SUMMARY:Toys for Tots Drive
DESCRIPTION:Edward Jones is supporting the Toys for Tots campaign by using our office as a drop-off location. Help needy children in our area by bringing a new\, unwrapped toy to our branch office during regular business hours.\n\n\n\nWith the holiday season just around the corner\, now is a great time to remember those who are less fortunate in our community.\n\n\n\nThis message is brought to you by your financial advisor Jon Glant at Edward Jones
X-ALT-DESC;FMTTYPE=text/html:Edward Jones is supporting the Toys for Tots campaign by using our office as a drop-off location. Help needy children in our area by bringing a new\, unwrapped toy to our branch office during regular business hours.<br />\n<br />\nWith the holiday season just around the corner\, now is a great time to remember those who are less fortunate in our community.<br />\n<br />\nThis message is brought to you by your financial advisor Jon Glant at Edward Jones
LOCATION:Edward Jones Office of Jon Glant 12062 Valley View Street\, Suite 118 Garden Grove CA 92845
UID:e.1315.2275
SEQUENCE:3
DTSTAMP:20260424T073950Z
URL:http://member.gardengrovechamber.com/events/details/toys-for-tots-drive-12-16-2014-2275
END:VEVENT

END:VCALENDAR
