BEGIN:VCALENDAR
VERSION:2.0
PRODID:-//ChamberMaster//Event Calendar 2.0//EN
METHOD:PUBLISH
X-PUBLISHED-TTL:P3D
REFRESH-INTERVAL:P3D
CALSCALE:GREGORIAN
BEGIN:VEVENT
DTSTART:20161030T013000Z
DTEND:20161030T041500Z
X-MICROSOFT-CDO-ALLDAYEVENT:FALSE
SUMMARY:Tribute Concert - Flashback Heart Attack
DESCRIPTION:Flashback Heart Attack - There is a reason Flashback Heart Attack is called the "real deal" by biggest names in music\, sports\, TV. In a very short time\, no one has played for as many named charities\, sports teams\, celebrity weddings and prestigious events as Flashback Heart attack. No detail is overlooked. Flashback Heart Attack has been hired as a featured act and Las Vegas headliner. Their 2nd year as a band\, Flashback Heart Attack performed The Palms LV with Maroon 5 and monthly residency followed.
X-ALT-DESC;FMTTYPE=text/html:<span style="color:#000000\;"><span style="font-size:12px\;"><span style="font-family:arial\;"><b>Flashback Heart Attack -&nbsp\;</b>There is a reason Flashback Heart Attack is called the &ldquo\;real deal&rdquo\; by biggest names in music\, sports\, TV. In a very short time\, no one has played for as many named charities\, sports teams\, celebrity weddings and prestigious events as Flashback Heart attack. No detail is overlooked. Flashback Heart Attack has been hired as a featured act and Las Vegas headliner. Their 2nd year as a band\, Flashback Heart Attack performed The Palms LV with Maroon 5 and monthly residency followed.</span></span></span>
LOCATION:The StrawberryBowl 12762 Main Street Garden Grove\, CA 92840
UID:e.1315.6014
SEQUENCE:3
DTSTAMP:20260420T151430Z
URL:http://member.gardengrovechamber.com/events/details/tribute-concert-flashback-heart-attack-6014
END:VEVENT

END:VCALENDAR
