BEGIN:VCALENDAR
VERSION:2.0
PRODID:-//ChamberMaster//Event Calendar 2.0//EN
METHOD:PUBLISH
X-PUBLISHED-TTL:P3D
REFRESH-INTERVAL:P3D
CALSCALE:GREGORIAN
BEGIN:VEVENT
DTSTART:20161009T013000Z
DTEND:20161009T041500Z
X-MICROSOFT-CDO-ALLDAYEVENT:FALSE
SUMMARY:Tribute Concert - Heart to Heart
DESCRIPTION:Heart to Heart - Tribute to Heart\, Opening - Tricia Freeman Band - Heart to Heart" recreates a fun\, full tilt rock'n roll concert environment in the style of "Heart's" vibe and atmosphere.\n\n"Heart to Heart" has mastered the look & sound of Ann and Nancy Wilson of "Heart\," taking fans by storm with their flawless sound and harmonies.\n\n\n\nTheir play list\, from (circa) 1975 to 1995\, includes the most sought after hits\, like: Barracuda\, Crazy On You\, Magic Man\, These Dreams\, Alone\, etc.
X-ALT-DESC;FMTTYPE=text/html:<span style="font-size:12px\;"><span style="font-family:arial\;"><span style="color:#000000\;"><strong>Heart to Heart - Tribute to Heart\, Opening - Tricia Freeman Band</strong>&nbsp\;- <span background-color:="" font-size:="" sans="" source="">Heart to Heart&rdquo\; recreates a fun\, full tilt rock&rsquo\;n roll concert environment in the style of &ldquo\;Heart&rsquo\;s&rdquo\; vibe and atmosphere.</span><br background-color:="" font-size:="" sans="" source="" style="box-sizing: border-box\; margin: 0px\; padding: 0px\; color: rgb(153\, 153\, 153)\; font-family: " />\n<span background-color:="" font-size:="" sans="" source="">&ldquo\;Heart to Heart&rdquo\; has mastered the look &amp\; sound of Ann and Nancy Wilson of &ldquo\;Heart\,&rdquo\; taking fans by storm with their flawless sound and harmonies.</span><br background-color:="" font-size:="" sans="" source="" style="box-sizing: border-box\; margin: 0px\; padding: 0px\; color: rgb(153\, 153\, 153)\; font-family: " />\n<br background-color:="" font-size:="" sans="" source="" style="box-sizing: border-box\; margin: 0px\; padding: 0px\; color: rgb(153\, 153\, 153)\; font-family: " />\n<span background-color:="" font-size:="" sans="" source="">Their play list\, from (circa) 1975 to 1995\, includes the most sought after hits\, like: Barracuda\, Crazy On You\, Magic Man\, These Dreams\, Alone\, etc.</span></span></span></span>
LOCATION:The StrawberryBowl 12762 Main Street Garden Grove\, CA 92840
UID:e.1315.6010
SEQUENCE:3
DTSTAMP:20260420T165718Z
URL:http://member.gardengrovechamber.com/events/details/tribute-concert-heart-to-heart-6010
END:VEVENT

END:VCALENDAR
