BEGIN:VCALENDAR
VERSION:2.0
PRODID:-//ChamberMaster//Event Calendar 2.0//EN
METHOD:PUBLISH
X-PUBLISHED-TTL:P3D
REFRESH-INTERVAL:P3D
CALSCALE:GREGORIAN
BEGIN:VEVENT
DTSTART:20170724T150000Z
DTEND:20170728T190000Z
X-MICROSOFT-CDO-ALLDAYEVENT:FALSE
SUMMARY:Vacation Bible School Day Camp
DESCRIPTION:Get ready for an action-packed 5-day super hero training camp where kids discover their strength in God!  We will learn that God's heroes have Heart\, Courage\, Wisdom\, Hope\, and Power.  So grab your cape and get ready to fly with epic music\, spectacular science\, crafty crafts\, heroic recreation\, and fantastic Bible stories!\n\n\n\nWe look forward to having many of our neighborhood children join us!\n\n\n\nPlease come whether it is your FIRST time or you are coming back again!
X-ALT-DESC;FMTTYPE=text/html:Get ready for an action-packed 5-day super hero training camp where kids discover their strength in God! &nbsp\;We will learn that God&#39\;s heroes have Heart\, Courage\, Wisdom\, Hope\, and Power. &nbsp\;So grab your cape and get ready to fly with epic music\, spectacular science\, crafty crafts\, heroic recreation\, and fantastic Bible stories!<br />\n<br />\nWe look forward to having many of our neighborhood children&nbsp\;join us!<br />\n<br />\nPlease come whether it is your FIRST time or you are coming back again!
LOCATION:King of Kings Lutheran 13431 Newhope Street Garden Grove\, CA 92840
UID:e.1315.6170
SEQUENCE:3
DTSTAMP:20260420T013727Z
URL:http://member.gardengrovechamber.com/events/details/vacation-bible-school-day-camp-6170
END:VEVENT

END:VCALENDAR
