BEGIN:VCALENDAR
VERSION:2.0
PRODID:-//ChamberMaster//Event Calendar 2.0//EN
METHOD:PUBLISH
X-PUBLISHED-TTL:P3D
REFRESH-INTERVAL:P3D
CALSCALE:GREGORIAN
BEGIN:VEVENT
DTSTART:20120907T230000Z
DTEND:20120908T030000Z
X-MICROSOFT-CDO-ALLDAYEVENT:FALSE
SUMMARY:Veteran Ed's Open House
DESCRIPTION:We want to celebrate moving into our new facility!  Join us for a night of food\, drinks\, music\, raffle prizes and much more!  Looking forward to seeing you there!\n\n\n\nRibbon Cutting Photo at 4:45 pm!
X-ALT-DESC;FMTTYPE=text/html:<span style="line-height: 18px\; background-color: rgb(249\,249\,249)\; font-family: arial\, helvetica\, sans-serif\; color: rgb(102\,102\,102)\; font-size: 13px">We want to celebrate moving into our new facility! &nbsp\;Join us for a night of food\, drinks\, music\, raffle prizes and much more! &nbsp\;Looking forward to seeing you there!<br />\n<br />\nRibbon Cutting Photo at 4:45 pm!&nbsp\;</span>&nbsp\;
LOCATION:11661 Salinaz Ave Garden Grove\, CA 92843
UID:e.1315.716
SEQUENCE:3
DTSTAMP:20260426T024917Z
URL:http://member.gardengrovechamber.com/events/details/veteran-ed-s-open-house-09-07-2012-716
END:VEVENT

END:VCALENDAR
