BEGIN:VCALENDAR
VERSION:2.0
PRODID:-//ChamberMaster//Event Calendar 2.0//EN
METHOD:PUBLISH
X-PUBLISHED-TTL:P3D
REFRESH-INTERVAL:P3D
CALSCALE:GREGORIAN
BEGIN:VEVENT
DTSTART:20170325T150000Z
DTEND:20170325T180000Z
X-MICROSOFT-CDO-ALLDAYEVENT:FALSE
SUMMARY:Walk in Their Shoes
DESCRIPTION:Join Working Wardrobes' VetNet as we\n\n"Walk in Their Shoes"\n\nto raise awareness of the struggles our veterans face\, here at home.
X-ALT-DESC;FMTTYPE=text/html:<span style="font-family: Arial\, Helvetica\, sans-serif\; font-size: 14px\; text-align: center\;">Join Working Wardrobes&rsquo\; VetNet as we</span><br style="font-family: Arial\, Helvetica\, sans-serif\; font-size: 14px\; text-align: center\;" />\n<span style="border: 0px\; font-family: Arial\, Helvetica\, sans-serif\; font-size: 14px\; margin: 0px\; outline: 0px\; padding: 0px\; vertical-align: baseline\; text-align: center\; color: rgb(0\, 0\, 255)\;"><strong style="border: 0px\; font-family: inherit\; font-style: inherit\; margin: 0px\; outline: 0px\; padding: 0px\; vertical-align: baseline\;">&ldquo\;Walk in Their Shoes&rdquo\;</strong></span><br style="font-family: Arial\, Helvetica\, sans-serif\; font-size: 14px\; text-align: center\;" />\n<span style="font-family: Arial\, Helvetica\, sans-serif\; font-size: 14px\; text-align: center\;">to raise awareness of the struggles our veterans face\, here at home.</span>
LOCATION:Oso Creek Trail Veterans Way Mission Viejo
UID:e.1315.6091
SEQUENCE:3
DTSTAMP:20260420T074928Z
URL:http://member.gardengrovechamber.com/events/details/walk-in-their-shoes-6091
END:VEVENT

END:VCALENDAR
