BEGIN:VCALENDAR
VERSION:2.0
PRODID:-//ChamberMaster//Event Calendar 2.0//EN
METHOD:PUBLISH
X-PUBLISHED-TTL:P3D
REFRESH-INTERVAL:P3D
CALSCALE:GREGORIAN
BEGIN:VEVENT
DTSTART:20161029T210000Z
DTEND:20161030T010000Z
X-MICROSOFT-CDO-ALLDAYEVENT:FALSE
SUMMARY:Walmart Neighborhood Market - Health & Wellness Fair
DESCRIPTION:Health & Wellness Fair\n\n	Free Screening\n	Blood Pressure\n	Immunization Assessments\n	\n		Flu\n		Pneumonia\n		Shingles\n		TDap\n		Meningitis\n		Hepatitis A\n		Hepatitis B\n		HPV\n		MMR\n	\n	\n	Comprehensive Medication Review\n\n\n\nSee our H&W team for more information or contact us at 714-620-3827
X-ALT-DESC;FMTTYPE=text/html:Health &amp\; Wellness Fair\n<ul>\n	<li>Free Screening</li>\n	<li>Blood Pressure</li>\n	<li>Immunization Assessments\n	<ul>\n		<li>Flu</li>\n		<li>Pneumonia</li>\n		<li>Shingles</li>\n		<li>TDap</li>\n		<li>Meningitis</li>\n		<li>Hepatitis A</li>\n		<li>Hepatitis B</li>\n		<li>HPV</li>\n		<li>MMR</li>\n	</ul>\n	</li>\n	<li>Comprehensive Medication Review</li>\n</ul>\n<br />\nSee our H&amp\;W team for more information or contact us at 714-620-3827<br />\n&nbsp\;
LOCATION:Walmart Neighborhood Market 10912 Katella Avenue Garden Grove\, CA 92840
UID:e.1315.6032
SEQUENCE:3
DTSTAMP:20260420T165858Z
URL:http://member.gardengrovechamber.com/events/details/walmart-neighborhood-market-health-wellness-fair-6032
END:VEVENT

END:VCALENDAR
