BEGIN:VCALENDAR
VERSION:2.0
PRODID:-//ChamberMaster//Event Calendar 2.0//EN
METHOD:PUBLISH
X-PUBLISHED-TTL:P3D
REFRESH-INTERVAL:P3D
CALSCALE:GREGORIAN
BEGIN:VEVENT
DTSTART:20170719T200000Z
DTEND:20170719T230000Z
X-MICROSOFT-CDO-ALLDAYEVENT:FALSE
SUMMARY:Wednesday Matinees and Discussions: Begin the Conversation
DESCRIPTION:Join us for a movie and discussion about how dementia impacts families and relationships:\n\nThe Notebook - Wednesday\, July 19 1:00pm- 4:00pm\n\nAway From Her- Wednesday\, August 16 1:00pm- 4:00pm\n\nStill Alice- Wednesday\, September 13 1:00pm- 4:00pm\n\nAurora Borealis- Wednesday\, October 18 1:00pm-4:00pm
X-ALT-DESC;FMTTYPE=text/html:Join us for a movie and discussion about how dementia impacts families and relationships:<br />\nThe Notebook - Wednesday\, July 19 1:00pm- 4:00pm<br />\nAway From Her- Wednesday\, August 16 1:00pm- 4:00pm<br />\nStill Alice- Wednesday\, September 13 1:00pm- 4:00pm<br />\nAurora Borealis- Wednesday\, October 18 1:00pm-4:00pm
LOCATION:Alzheimer's Orange County 2515 McCabe Way Irvine\, CA 92614
UID:e.1315.6177
SEQUENCE:3
DTSTAMP:20260420T013728Z
URL:http://member.gardengrovechamber.com/events/details/wednesday-matinees-and-discussions-begin-the-conversation-6177
END:VEVENT

END:VCALENDAR
