BEGIN:VCALENDAR
VERSION:2.0
PRODID:-//ChamberMaster//Event Calendar 2.0//EN
METHOD:PUBLISH
X-PUBLISHED-TTL:P3D
REFRESH-INTERVAL:P3D
CALSCALE:GREGORIAN
BEGIN:VEVENT
DTSTART:20170121T180000Z
DTEND:20170121T230000Z
X-MICROSOFT-CDO-ALLDAYEVENT:FALSE
SUMMARY:Women's Discover Fair
DESCRIPTION:The Discover Fair showcases fun\, interactive specialties:\n\n	Learn what your Kiss print says about you\n	Browse our Mobile Boutique\n	Find Your Best Bra Fit EVER\n	Learn self-defense tactics\n	Hand and Lip Treatments\n	Spine Assessment\n	Find your Dream Car\n	Digital Printing\n	Free Massages\n	Charitable Wine\n	Product Samplings\n\nAnd much more
X-ALT-DESC;FMTTYPE=text/html:The Discover Fair showcases fun\, interactive specialties:\n<ul>\n	<li>Learn what your Kiss print says about you</li>\n	<li>Browse our Mobile Boutique</li>\n	<li>Find Your Best Bra Fit EVER</li>\n	<li>Learn self-defense tactics</li>\n	<li>Hand and Lip Treatments</li>\n	<li>Spine Assessment</li>\n	<li>Find your Dream Car</li>\n	<li>Digital Printing</li>\n	<li>Free Massages</li>\n	<li>Charitable Wine</li>\n	<li>Product Samplings</li>\n</ul>\nAnd much more
LOCATION:320 W. Cerritos Avenue Building 7 Anaheim\, CA 92805
UID:e.1315.6064
SEQUENCE:3
DTSTAMP:20260420T104657Z
URL:http://member.gardengrovechamber.com/events/details/women-s-discover-fair-6064
END:VEVENT

END:VCALENDAR
