BEGIN:VCALENDAR
VERSION:2.0
PRODID:-//ChamberMaster//Event Calendar 2.0//EN
METHOD:PUBLISH
X-PUBLISHED-TTL:P3D
REFRESH-INTERVAL:P3D
CALSCALE:GREGORIAN
BEGIN:VEVENT
DTSTART:20130120T183000Z
DTEND:20130120T230000Z
X-MICROSOFT-CDO-ALLDAYEVENT:FALSE
SUMMARY:Women's Division Annual Fashion Show
DESCRIPTION:Join the GGCC-Women's Division for their annual fashion show/luncheon/auction\, "Breakfast at Tiffany's.\n\n	\n\n	The proceeds will be used to support our philanthropic endeavors\, high school scholarships and "The 50th Silver Spoons Tea".
X-ALT-DESC;FMTTYPE=text/html:<div style="color: gray">\n	<span style="widows: 2\; text-transform: none\; background-color: rgb(255\,255\,255)\; text-indent: 0px\; letter-spacing: normal\; display: inline !important\; font: 13px arial\, sans-serif\; white-space: normal\; orphans: 2\; float: none\; color: rgb(34\,34\,34)\; word-spacing: 0px\; -webkit-text-size-adjust: auto\; -webkit-text-stroke-width: 0px">Join the GGCC-Women&rsquo\;s Division for their annual fashion show/luncheon/auction\, &ldquo\;Breakfast at Tiffany&rsquo\;s.<br />\n	<br />\n	<span style="widows: 2\; text-transform: none\; background-color: rgb(255\,255\,255)\; text-indent: 0px\; letter-spacing: normal\; display: inline !important\; font: 13px arial\, sans-serif\; white-space: normal\; orphans: 2\; float: none\; color: rgb(34\,34\,34)\; word-spacing: 0px\; -webkit-text-size-adjust: auto\; -webkit-text-stroke-width: 0px">The proceeds will be used to support our philanthropic endeavors\, high school scholarships and &ldquo\;The 50th Silver Spoons Tea&rdquo\;.<span _fck_bookmark="1" style="display: none">&nbsp\;</span></span><br />\n	<span _fck_bookmark="1" style="display: none">&nbsp\;</span></span></div>\n
LOCATION:It will be held at the Embassy Suites 11767 Harbor Blvd. Garden Grove\, CA 92840
UID:e.1315.864
SEQUENCE:3
DTSTAMP:20260425T204656Z
URL:http://member.gardengrovechamber.com/events/details/women-s-division-annual-fashion-show-01-20-2013-864
END:VEVENT

END:VCALENDAR
