BEGIN:VCALENDAR
VERSION:2.0
PRODID:-//ChamberMaster//Event Calendar 2.0//EN
METHOD:PUBLISH
X-PUBLISHED-TTL:P3D
REFRESH-INTERVAL:P3D
CALSCALE:GREGORIAN
BEGIN:VEVENT
DTSTART:20160114T161500Z
DTEND:20160114T180000Z
X-MICROSOFT-CDO-ALLDAYEVENT:FALSE
SUMMARY:Women's Division Committee Meeting
DESCRIPTION:Garden Grove Chamber Women's Division Committee Meeting.
X-ALT-DESC;FMTTYPE=text/html:Garden Grove Chamber Women&#39\;s Division Committee Meeting.
LOCATION:Garden Grove Chamber Office 12866 Main Street\, Suite 102 Garden Grove\, CA 92840
UID:e.1315.1804
SEQUENCE:3
DTSTAMP:20260421T054521Z
URL:http://member.gardengrovechamber.com/events/details/women-s-division-committee-meeting-01-14-2016-1804
END:VEVENT

END:VCALENDAR
