BEGIN:VCALENDAR
VERSION:2.0
PRODID:-//ChamberMaster//Event Calendar 2.0//EN
METHOD:PUBLISH
X-PUBLISHED-TTL:P3D
REFRESH-INTERVAL:P3D
CALSCALE:GREGORIAN
BEGIN:VEVENT
DTSTART:20160609T151500Z
DTEND:20160609T170000Z
X-MICROSOFT-CDO-ALLDAYEVENT:FALSE
SUMMARY:Women's Division Committee Meeting
DESCRIPTION:Garden Grove Chamber Women's Division Committee Meeting.
X-ALT-DESC;FMTTYPE=text/html:Garden Grove Chamber Women&#39\;s Division Committee Meeting.
LOCATION:Garden Grove Chamber Office 12866 Main Street\, Suite 102 Garden Grove\, CA 92840
UID:e.1315.1809
SEQUENCE:3
DTSTAMP:20260420T215543Z
URL:http://member.gardengrovechamber.com/events/details/women-s-division-committee-meeting-06-09-2016-1809
END:VEVENT

END:VCALENDAR
