BEGIN:VCALENDAR
VERSION:2.0
PRODID:-//ChamberMaster//Event Calendar 2.0//EN
METHOD:PUBLISH
X-PUBLISHED-TTL:P3D
REFRESH-INTERVAL:P3D
CALSCALE:GREGORIAN
BEGIN:VEVENT
DTSTART:20140116T193000Z
DTEND:20140116T210000Z
X-MICROSOFT-CDO-ALLDAYEVENT:FALSE
SUMMARY:Women's Division Luncheon
DESCRIPTION:Happy Birthday Women's Division Luncheon.  Our networkers are Beulah Miller of Usana Health Sciences and Pam Macneil of Emeritus-Valley View.  Come join us at this Networking opportunity for lunch.\n\n\n\nBring a Door Prize ($5 value) and receive 2 FREE Door Prize Tickets!!!
X-ALT-DESC;FMTTYPE=text/html:<strong>Happy Birthday Women&#39\;s Division Luncheon</strong>. &nbsp\;Our networkers are Beulah Miller of Usana Health Sciences and Pam Macneil of Emeritus-Valley View. &nbsp\;Come join us at this Networking opportunity for lunch.<br />\n<br />\n<strong>Bring a Door Prize ($5 value) and receive 2 FREE Door Prize Tickets!!!</strong>
LOCATION:Garden Grove Elk's Lodge 11551 Trask Avenue Garden Grove\, CA 92843
UID:e.1315.1446
SEQUENCE:3
DTSTAMP:20260425T001652Z
URL:http://member.gardengrovechamber.com/events/details/women-s-division-luncheon-01-16-2014-1446
END:VEVENT

END:VCALENDAR
