BEGIN:VCALENDAR
VERSION:2.0
PRODID:-//ChamberMaster//Event Calendar 2.0//EN
METHOD:PUBLISH
X-PUBLISHED-TTL:P3D
REFRESH-INTERVAL:P3D
CALSCALE:GREGORIAN
BEGIN:VEVENT
DTSTART:20130418T183000Z
DTEND:20130418T200000Z
X-MICROSOFT-CDO-ALLDAYEVENT:FALSE
SUMMARY:Women's Division Luncheon
DESCRIPTION:Networking opportunity\n\n	for more info email wdpresident@gardengrovechamber.org
X-ALT-DESC;FMTTYPE=text/html:<p>\n	Networking opportunity</p>\n<p>\n	for more info email wdpresident@gardengrovechamber.org</p>\n<div style="color: gray">\n	<span _fck_bookmark="1" style="display: none">&nbsp\;</span></div>\n
LOCATION:Garden Grove Elk's Lodge 11551 Trask Ave. Garden Grove\, CA 92843
UID:e.1315.542
SEQUENCE:3
DTSTAMP:20260425T153940Z
URL:http://member.gardengrovechamber.com/events/details/women-s-division-luncheon-04-18-2013-542
END:VEVENT

END:VCALENDAR
