BEGIN:VCALENDAR
VERSION:2.0
PRODID:-//ChamberMaster//Event Calendar 2.0//EN
METHOD:PUBLISH
X-PUBLISHED-TTL:P3D
REFRESH-INTERVAL:P3D
CALSCALE:GREGORIAN
BEGIN:VEVENT
DTSTART:20260610T183000Z
DTEND:20260610T200000Z
X-MICROSOFT-CDO-ALLDAYEVENT:FALSE
SUMMARY:Women's Division Luncheon 2026
DESCRIPTION:Women's Division Luncheon 2026\n\nJoin our Women's Division Luncheon gathering at Garden Grove Elks Lodge.\n\n\n\nThis is your chance to network\, share ideas\, and build lasting connections with fellow business professionals\, as well as members of the Garden Grove community. Plus\, we'll be raising funds through a fun raffle to support our initiatives don't miss your chance to win while giving back!\n\nOpen to all members come connect\, collaborate\, and grow with us\, all while enjoying amazing food and helping us make an even bigger impact in the year ahead!
X-ALT-DESC;FMTTYPE=text/html:<h3>Women&#39\;s Division Luncheon 2026</h3>\n\n<p>Join our Women&#39\;s Division Luncheon&nbsp\;gathering at <span style="color:#0000FF\;"><strong>Garden Grove Elks Lodge</strong></span>.<br />\n<br />\nThis is your chance to network\, share ideas\, and build lasting connections with fellow business professionals\, as well as members of the Garden Grove community. Plus\, we&rsquo\;ll be raising funds through a fun raffle to support our initiatives&mdash\;don&rsquo\;t miss your chance to win while giving back!</p>\n\n<p><strong>Open to all members</strong>&mdash\;come connect\, collaborate\, and grow with us\, all while enjoying amazing food and helping us make an even bigger impact in the year ahead!</p>\n
LOCATION:
UID:e.1315.9361
SEQUENCE:3
DTSTAMP:20260420T085711Z
URL:http://member.gardengrovechamber.com/events/details/women-s-division-luncheon-2026-06-10-2026-9361
END:VEVENT

END:VCALENDAR
