BEGIN:VCALENDAR
VERSION:2.0
PRODID:-//ChamberMaster//Event Calendar 2.0//EN
METHOD:PUBLISH
X-PUBLISHED-TTL:P3D
REFRESH-INTERVAL:P3D
CALSCALE:GREGORIAN
BEGIN:VEVENT
DTSTART:20130421T210000Z
DTEND:20130421T230000Z
X-MICROSOFT-CDO-ALLDAYEVENT:FALSE
SUMMARY:Women's Division Silver Spoons Tea
DESCRIPTION:The GGCC-Women's Division will be hosting "The (50th annual) Silver Spoons Tea"\n\n	\n\n	This is "the" city-wide salute event to the top volunteers of Garden Grove's non-profit organizations.  It will be held at the Embassy Suites\, GG.  For information about nominating the top volunteer from your organization and/or ticket information\n\n	contact:  wdpresident@gardengrovechamber.com
X-ALT-DESC;FMTTYPE=text/html:<div style="color: gray">\n	<span style="widows: 2\; text-transform: none\; background-color: rgb(255\,255\,255)\; text-indent: 0px\; letter-spacing: normal\; display: inline !important\; font: 13px arial\, sans-serif\; white-space: normal\; orphans: 2\; float: none\; color: rgb(34\,34\,34)\; word-spacing: 0px\; -webkit-text-size-adjust: auto\; -webkit-text-stroke-width: 0px">The GGCC-Women&rsquo\;s Division will be hosting &ldquo\;The (50th annual) Silver Spoons Tea&rdquo\;<br />\n	<br />\n	<span style="widows: 2\; text-transform: none\; background-color: rgb(255\,255\,255)\; text-indent: 0px\; letter-spacing: normal\; display: inline !important\; font: 13px arial\, sans-serif\; white-space: normal\; orphans: 2\; float: none\; color: rgb(34\,34\,34)\; word-spacing: 0px\; -webkit-text-size-adjust: auto\; -webkit-text-stroke-width: 0px">This is &ldquo\;the&rdquo\; city-wide salute event to the top volunteers of Garden Grove&rsquo\;s non-profit organizations. &nbsp\;It will be held at the Embassy Suites\, GG. &nbsp\;For information about nominating the top volunteer from your organization and/or ticket information</span><br style="widows: 2\; text-transform: none\; background-color: rgb(255\,255\,255)\; text-indent: 0px\; letter-spacing: normal\; font: 13px arial\, sans-serif\; white-space: normal\; orphans: 2\; color: rgb(34\,34\,34)\; word-spacing: 0px\; -webkit-text-size-adjust: auto\; -webkit-text-stroke-width: 0px" />\n	<span style="widows: 2\; text-transform: none\; background-color: rgb(255\,255\,255)\; text-indent: 0px\; letter-spacing: normal\; display: inline !important\; font: 13px arial\, sans-serif\; white-space: normal\; orphans: 2\; float: none\; color: rgb(34\,34\,34)\; word-spacing: 0px\; -webkit-text-size-adjust: auto\; -webkit-text-stroke-width: 0px">contact: &nbsp\;</span><a href="mailto:wdpresident@gardengrovechamber.com" style="widows: 2\; text-transform: none\; background-color: rgb(255\,255\,255)\; text-indent: 0px\; letter-spacing: normal\; font: 13px arial\, sans-serif\; white-space: normal\; orphans: 2\; color: rgb(17\,85\,204)\; word-spacing: 0px\; -webkit-text-size-adjust: auto\; -webkit-text-stroke-width: 0px" target="_blank">wdpresident@<wbr>gardengrovechamber.com</wbr></a><wbr><wbr><wbr>\n	<div style="widows: 2\; text-transform: none\; background-color: rgb(255\,255\,255)\; text-indent: 0px\; letter-spacing: normal\; font: 13px arial\, sans-serif\; white-space: normal\; orphans: 2\; color: rgb(34\,34\,34)\; word-spacing: 0px\; -webkit-text-size-adjust: auto\; -webkit-text-stroke-width: 0px">\n		<br class="Apple-interchange-newline" />\n		<span _fck_bookmark="1" style="display: none">&nbsp\;</span></div>\n	</wbr></wbr></wbr></span></div>\n
LOCATION:Embassy Suites Hotel 11767 Harbor Blvd. Garden Grove\, CA 92840
UID:e.1315.862
SEQUENCE:3
DTSTAMP:20260425T154928Z
URL:http://member.gardengrovechamber.com/events/details/women-s-division-silver-spoons-tea-04-21-2013-862
END:VEVENT

END:VCALENDAR
