BEGIN:VCALENDAR
VERSION:2.0
PRODID:-//ChamberMaster//Event Calendar 2.0//EN
METHOD:PUBLISH
X-PUBLISHED-TTL:P3D
REFRESH-INTERVAL:P3D
CALSCALE:GREGORIAN
BEGIN:VEVENT
DTSTART:20221206T210000Z
DTEND:20221207T030000Z
X-MICROSOFT-CDO-ALLDAYEVENT:FALSE
SUMMARY:Blood Drive at the Elks Garden Grove
DESCRIPTION:Open to the Public  the Red Cross will have a Blood Drive on December 6th at the Garden Grove Elks Lodge from 1 to 7pm.  Appointments are preferred but walk-ins will be accommodated where possible. Call the phone numbers listed if cannot register your appointment.
X-ALT-DESC;FMTTYPE=text/html:<p><span style="font-size:14px\;"><span style="font-family:arial\;"><span style="white-space: pre-wrap\; color: black\;">Open to the Public&nbsp\;&nbsp\;the Red Cross will have a Blood Drive on </span><span style="white-space: pre-wrap\; color: black\; font-weight: bold\;">December 6th</span><span style="white-space: pre-wrap\; color: black\;"> at the </span><span style="white-space: pre-wrap\; color: black\; font-weight: bold\;">Garden Grove Elks Lodge</span><span style="white-space: pre-wrap\; color: black\;"> from </span><span style="white-space: pre-wrap\; color: black\; font-weight: bold\;">1 to 7pm</span><span style="white-space: pre-wrap\; color: black\;">.&nbsp\;&nbsp\;Appointments are preferred but walk-ins will be accommodated where possible.&nbsp\;Call the phone numbers listed if cannot register your appointment.</span></span></span></p>\n
LOCATION:11551 Trask Avenue Garden Grove\, CA
UID:e.1315.8262
SEQUENCE:3
DTSTAMP:20260421T113119Z
URL:https://member.gardengrovechamber.com/events/details/blood-drive-at-the-elks-garden-grove-8262
END:VEVENT

END:VCALENDAR
