BEGIN:VCALENDAR
VERSION:2.0
PRODID:-//ChamberMaster//Event Calendar 2.0//EN
METHOD:PUBLISH
X-PUBLISHED-TTL:P3D
REFRESH-INTERVAL:P3D
CALSCALE:GREGORIAN
BEGIN:VEVENT
DTSTART:20230316T220000Z
DTEND:20230316T230000Z
X-MICROSOFT-CDO-ALLDAYEVENT:FALSE
SUMMARY:Community Affairs Committee Meeting
DESCRIPTION:Community Affairs Committee Meeting - This Committee produces all Chamber fundraising events as well as other Chamber events that take place in the community. The key events during the year are the State of the City Luncheon\, Gala\, GGCF/Chamber Golf Classic\, and Bowling Tournament.
X-ALT-DESC;FMTTYPE=text/html:<strong>Community Affairs Committee Meeting</strong>&nbsp\;-&nbsp\;<em><span style="font-family:calibri\,sans-serif\;"><span style="font-size:10.0pt\;">This Committee produces all Chamber fundraising events as well as other Chamber events that take place in the community. The key events during the year are the State of the City Luncheon\, Gala\, GGCF/Chamber Golf Classic\, and Bowling Tournament.&nbsp\;</span></span></em>
LOCATION:Garden Grove Chamber of Commerce
UID:e.1315.5773
SEQUENCE:3
DTSTAMP:20260421T064308Z
URL:https://member.gardengrovechamber.com/events/details/community-affairs-committee-meeting-03-16-2023-5773
END:VEVENT

END:VCALENDAR
