BEGIN:VCALENDAR
VERSION:2.0
PRODID:-//ChamberMaster//Event Calendar 2.0//EN
METHOD:PUBLISH
X-PUBLISHED-TTL:P3D
REFRESH-INTERVAL:P3D
CALSCALE:GREGORIAN
BEGIN:VEVENT
DTSTART:20220120T193000Z
DTEND:20220120T210000Z
X-MICROSOFT-CDO-ALLDAYEVENT:FALSE
SUMMARY:Garden Grove Chamber Women's Division Luncheon
DESCRIPTION:Canceled due to COVID. See you all next month.
X-ALT-DESC;FMTTYPE=text/html:Canceled due to COVID. See you all next month.
LOCATION:
UID:e.1315.7874
SEQUENCE:3
DTSTAMP:20260422T045927Z
URL:https://member.gardengrovechamber.com/events/details/garden-grove-chamber-women-s-division-luncheon-7874
END:VEVENT

END:VCALENDAR
