BEGIN:VCALENDAR
VERSION:2.0
PRODID:-//ChamberMaster//Event Calendar 2.0//EN
METHOD:PUBLISH
X-PUBLISHED-TTL:P3D
REFRESH-INTERVAL:P3D
CALSCALE:GREGORIAN
BEGIN:VEVENT
DTSTART:20220403T203000Z
DTEND:20220403T220000Z
X-MICROSOFT-CDO-ALLDAYEVENT:FALSE
SUMMARY:Public Tour
DESCRIPTION:Please join us for our Public Tour on Sunday\, April 3\, 2022\, at 1:30 p.m. We will meet at the General Store at the Stanley Ranch & Historical Village property located at 12174 Euclid Avenue\, Garden Grove. The tour takes approximately 1.5 hours. You will tour the 1982 Ware-Stanley Ranch House\, a replica of the original Garden Grove Fire Station\, the original 1877 Garden Grove Post Office\, our one room schoolhouse and the 1916 Schnitger House as well as the 1923 Disney Garage.
X-ALT-DESC;FMTTYPE=text/html:Please join us for our Public Tour on Sunday\, April 3\, 2022\, at 1:30 p.m. We will meet at the General Store at the Stanley Ranch &amp\; Historical Village property located at 12174 Euclid Avenue\, Garden Grove. The tour takes approximately 1.5 hours. You will tour the 1982 Ware-Stanley Ranch House\, a replica of the original Garden Grove Fire Station\, the original 1877 Garden Grove Post Office\, our one room schoolhouse and the 1916 Schnitger House as well as the 1923 Disney Garage.
LOCATION:Stanley Ranch & Historical Village 12174 Euclid Street Garden Grove\, CA
UID:e.1315.8219
SEQUENCE:3
DTSTAMP:20260421T235449Z
URL:https://member.gardengrovechamber.com/events/details/public-tour-8219
END:VEVENT

END:VCALENDAR
