BEGIN:VCALENDAR
VERSION:2.0
PRODID:-//ChamberMaster//Event Calendar 2.0//EN
METHOD:PUBLISH
X-PUBLISHED-TTL:P3D
REFRESH-INTERVAL:P3D
CALSCALE:GREGORIAN
BEGIN:VEVENT
DTSTART;VALUE=DATE:20220217
DTEND;VALUE=DATE:20220218
TRANSP:TRANSPARENT
X-MICROSOFT-CDO-ALLDAYEVENT:TRUE
SUMMARY:Random Acts of Kindness Day
DESCRIPTION:
X-ALT-DESC;FMTTYPE=text/html:
LOCATION:
UID:e.1315.7881
SEQUENCE:3
DTSTAMP:20260422T031211Z
URL:https://member.gardengrovechamber.com/events/details/random-acts-of-kindness-day-7881
END:VEVENT

END:VCALENDAR
