BEGIN:VCALENDAR
VERSION:2.0
PRODID:-//ChamberMaster//Event Calendar 2.0//EN
METHOD:PUBLISH
X-PUBLISHED-TTL:P3D
REFRESH-INTERVAL:P3D
CALSCALE:GREGORIAN
BEGIN:VEVENT
DTSTART:20250204T210000Z
DTEND:20250204T220000Z
X-MICROSOFT-CDO-ALLDAYEVENT:FALSE
SUMMARY:RC: Garden Grove Modern Dentistry
DESCRIPTION:
X-ALT-DESC;FMTTYPE=text/html:
LOCATION:Garden Grove Modern Dentistry 9842 Chapman Ave Garden Grove\, CA 92841
UID:e.1315.9307
SEQUENCE:3
DTSTAMP:20260419T133148Z
URL:https://member.gardengrovechamber.com/events/details/rc-garden-grove-modern-dentistry-9307
END:VEVENT

END:VCALENDAR
