BEGIN:VCALENDAR
VERSION:2.0
PRODID:-//ChamberMaster//Event Calendar 2.0//EN
METHOD:PUBLISH
X-PUBLISHED-TTL:P3D
REFRESH-INTERVAL:P3D
CALSCALE:GREGORIAN
BEGIN:VEVENT
DTSTART:20210903T210000Z
DTEND:20210903T220000Z
X-MICROSOFT-CDO-ALLDAYEVENT:FALSE
SUMMARY:Ribbon Cutting Ceremony - Plush & Poised Beauty Suites
DESCRIPTION:
X-ALT-DESC;FMTTYPE=text/html:
LOCATION:Plush & Poised Beauty Suites
UID:e.1315.7687
SEQUENCE:3
DTSTAMP:20260424T212556Z
URL:https://member.gardengrovechamber.com/events/details/ribbon-cutting-ceremony-plush-poised-beauty-suites-7687
END:VEVENT

END:VCALENDAR
