BEGIN:VCALENDAR
VERSION:2.0
PRODID:-//ChamberMaster//Event Calendar 2.0//EN
METHOD:PUBLISH
X-PUBLISHED-TTL:P3D
REFRESH-INTERVAL:P3D
CALSCALE:GREGORIAN
BEGIN:VEVENT
DTSTART;VALUE=DATE:20220527
DTEND;VALUE=DATE:20220531
TRANSP:TRANSPARENT
X-MICROSOFT-CDO-ALLDAYEVENT:TRUE
SUMMARY:Strawberry Festival
DESCRIPTION:62nd Annual Garden Grove Strawberry Festival
X-ALT-DESC;FMTTYPE=text/html:62nd Annual Garden Grove Strawberry Festival&nbsp\;
LOCATION:S. Euclid St & Main St. Garden Grove\, CA 92840
UID:e.1315.8213
SEQUENCE:3
DTSTAMP:20260421T221446Z
URL:https://member.gardengrovechamber.com/events/details/strawberry-festival-8213
END:VEVENT

END:VCALENDAR
