BEGIN:VCALENDAR
VERSION:2.0
PRODID:-//ChamberMaster//Event Calendar 2.0//EN
METHOD:PUBLISH
X-PUBLISHED-TTL:P3D
REFRESH-INTERVAL:P3D
CALSCALE:GREGORIAN
BEGIN:VEVENT
DTSTART:20230712T163000Z
DTEND:20230712T173000Z
X-MICROSOFT-CDO-ALLDAYEVENT:FALSE
SUMMARY:Women's Division Committee Meeting
DESCRIPTION:Women's Division Committee Meeting
X-ALT-DESC;FMTTYPE=text/html:Women&#39\;s Division Committee Meeting&nbsp\;
LOCATION:Garden Grove Chamber of Commerce 12866 Main Street\, Suite 102 Garden Grove\, CA 92840
UID:e.1315.8641
SEQUENCE:3
DTSTAMP:20260421T015042Z
URL:https://member.gardengrovechamber.com/events/details/women-s-division-committee-meeting-07-12-2023-8641
END:VEVENT

END:VCALENDAR
