BEGIN:VCALENDAR
VERSION:2.0
PRODID:-//ChamberMaster//Event Calendar 2.0//EN
METHOD:PUBLISH
X-PUBLISHED-TTL:P3D
REFRESH-INTERVAL:P3D
CALSCALE:GREGORIAN
BEGIN:VEVENT
DTSTART:20210909T160000Z
DTEND:20210909T170000Z
X-MICROSOFT-CDO-ALLDAYEVENT:FALSE
SUMMARY:Women's Division Committee Meeting
DESCRIPTION:Women's Division Committee Meeting - This committee supports the community in multiple ways which includes\, but is not limited to: awarding scholarships annually to graduating GGUSD high school seniors who have plans to continue their education\, funding beautification projects in our city (tree planting\, mosaics\, etc.)\, hosting the annual Silver Spoon Awards event where outstanding volunteers are honored from Garden Grove non-profit organizations. This committee hosts various fundraisers throughout the year and is self-sustaining to support and promote efforts that enrich the environment and/or lives of the citizens of Garden Grove.
X-ALT-DESC;FMTTYPE=text/html:<span style="font-size:12px\;"><strong>Women&#39\;s Division Committee Meeting </strong>-&nbsp\;<span style="color: rgb(0\, 0\, 0)\; font-family: Roboto\, Helvetica\, Arial\, Verdana\, sans-serif\;">This committee supports the community in multiple&nbsp\;ways which includes\, but is not limited to: awarding scholarships annually to graduating GGUSD high&nbsp\;school seniors who have plans to continue their education\, funding beautification projects in our city (tree planting\, mosaics\, etc.)\, hosting the annual Silver Spoon Awards event where outstanding volunteers are honored from Garden Grove non-profit organizations.&nbsp\;This committee hosts various fundraisers throughout the year and is self-sustaining to support and promote efforts that enrich the environment and/or lives of the citizens of Garden Grove.</span></span>
LOCATION:Meeting by Zoom
UID:e.1315.7686
SEQUENCE:3
DTSTAMP:20260424T212549Z
URL:https://member.gardengrovechamber.com/events/details/women-s-division-committee-meeting-7686
END:VEVENT

END:VCALENDAR
