BEGIN:VCALENDAR
VERSION:2.0
PRODID:-//ChamberMaster//Event Calendar 2.0//EN
METHOD:PUBLISH
X-PUBLISHED-TTL:P3D
REFRESH-INTERVAL:P3D
CALSCALE:GREGORIAN
BEGIN:VEVENT
DTSTART:20240913T183000Z
DTEND:20240913T200000Z
X-MICROSOFT-CDO-ALLDAYEVENT:FALSE
SUMMARY:Women's Division Luncheon 2024
DESCRIPTION:Our monthly no-host luncheons\, held at various locations are open to all Chamber members. It's a great opportunity to connect with fellow professionals\, entrepreneurs\, community leaders. Don't forget to bring a raffle gift to help support our initiatives while having fun!
X-ALT-DESC;FMTTYPE=text/html:<span style="color: rgb(26\, 25\, 26)\; font-family: Arial\, Verdana\, Helvetica\, sans-serif\; font-size: 14px\; text-align: justify\; white-space-collapse: preserve\;">Our monthly no-host luncheons\, held at various locations are open to all Chamber members. It&rsquo\;s a great opportunity to connect with fellow professionals\, entrepreneurs\, community leaders. Don&#39\;t forget to bring a raffle gift to help support our initiatives while having fun!</span>
LOCATION:
UID:e.1315.8980
SEQUENCE:3
DTSTAMP:20260419T225815Z
URL:https://member.gardengrovechamber.com/events/details/women-s-division-luncheon-2023-09-13-2024-8980
END:VEVENT

END:VCALENDAR
